BEGIN:VCALENDAR
VERSION:2.0
PRODID:https://www.buchloe.de/
METHOD:PUBLISH
BEGIN:VEVENT
UID:event-8435@www.buchloe.de
LOCATION:Am Eisstadion Buchloe 
SUMMARY:Aktenschreddern für den guten Zweck 
DESCRIPTION:Aktenschreddern für den guten Zweck&amp;nbsp;Auch in diesem Jahr können Sie Ihre sensiblen Dokumente sowie nicht mehr benötigte Datenträger sicher bei der Aktenschredder-Aktion des Rotary Clubs Buchloe für den guten Zweck loswerden.&amp;nbsp;
CLASS:PUBLIC
DTSTART;TZID="(GMT+01.00) Amsterdam / Berlin / Bern / Rome / Stockholm / Vienna":20260424T140000
DTEND;TZID="(GMT+01.00) Amsterdam / Berlin / Bern / Rome / Stockholm / Vienna":20260424T170000
DTSTAMP;TZID="(GMT+01.00) Amsterdam / Berlin / Bern / Rome / Stockholm / Vienna":20260420T100415
END:VEVENT
END:VCALENDAR
